BEGIN:VCALENDAR
VERSION:2.0
PRODID:-//The Real Michael Colyar - ECPv6.15.20//NONSGML v1.0//EN
CALSCALE:GREGORIAN
METHOD:PUBLISH
X-ORIGINAL-URL:https://therealmichaelcolyar.com
X-WR-CALDESC:Events for The Real Michael Colyar
REFRESH-INTERVAL;VALUE=DURATION:PT1H
X-Robots-Tag:noindex
X-PUBLISHED-TTL:PT1H
BEGIN:VTIMEZONE
TZID:America/New_York
BEGIN:DAYLIGHT
TZOFFSETFROM:-0500
TZOFFSETTO:-0400
TZNAME:EDT
DTSTART:20240310T070000
END:DAYLIGHT
BEGIN:STANDARD
TZOFFSETFROM:-0400
TZOFFSETTO:-0500
TZNAME:EST
DTSTART:20241103T060000
END:STANDARD
BEGIN:DAYLIGHT
TZOFFSETFROM:-0500
TZOFFSETTO:-0400
TZNAME:EDT
DTSTART:20250309T070000
END:DAYLIGHT
BEGIN:STANDARD
TZOFFSETFROM:-0400
TZOFFSETTO:-0500
TZNAME:EST
DTSTART:20251102T060000
END:STANDARD
BEGIN:DAYLIGHT
TZOFFSETFROM:-0500
TZOFFSETTO:-0400
TZNAME:EDT
DTSTART:20260308T070000
END:DAYLIGHT
BEGIN:STANDARD
TZOFFSETFROM:-0400
TZOFFSETTO:-0500
TZNAME:EST
DTSTART:20261101T060000
END:STANDARD
END:VTIMEZONE
BEGIN:VEVENT
DTSTART;TZID=America/New_York:20250829T190000
DTEND;TZID=America/New_York:20250831T190000
DTSTAMP:20260426T001948
CREATED:20250205T170105Z
LAST-MODIFIED:20250522T022922Z
UID:1976-1756494000-1756666800@therealmichaelcolyar.com
SUMMARY:Buffalo\, NY
DESCRIPTION:Click Here to Purchase Tickets.
URL:https://therealmichaelcolyar.com/event/buffalo-ny/
LOCATION:Helium & Elements Restaurant – Buffalo\, 30 Mississippi Street\, Buffalo\, NY\, 14203\, United States
ATTACH;FMTTYPE=image/png:https://therealmichaelcolyar.com/wp-content/uploads/2025/02/Events-Image.png
END:VEVENT
END:VCALENDAR