BEGIN:VCALENDAR
VERSION:2.0
PRODID:-//The Real Michael Colyar - ECPv6.15.20//NONSGML v1.0//EN
CALSCALE:GREGORIAN
METHOD:PUBLISH
X-WR-CALNAME:The Real Michael Colyar
X-ORIGINAL-URL:https://therealmichaelcolyar.com
X-WR-CALDESC:Events for The Real Michael Colyar
REFRESH-INTERVAL;VALUE=DURATION:PT1H
X-Robots-Tag:noindex
X-PUBLISHED-TTL:PT1H
BEGIN:VTIMEZONE
TZID:America/New_York
BEGIN:DAYLIGHT
TZOFFSETFROM:-0500
TZOFFSETTO:-0400
TZNAME:EDT
DTSTART:20240310T070000
END:DAYLIGHT
BEGIN:STANDARD
TZOFFSETFROM:-0400
TZOFFSETTO:-0500
TZNAME:EST
DTSTART:20241103T060000
END:STANDARD
BEGIN:DAYLIGHT
TZOFFSETFROM:-0500
TZOFFSETTO:-0400
TZNAME:EDT
DTSTART:20250309T070000
END:DAYLIGHT
BEGIN:STANDARD
TZOFFSETFROM:-0400
TZOFFSETTO:-0500
TZNAME:EST
DTSTART:20251102T060000
END:STANDARD
BEGIN:DAYLIGHT
TZOFFSETFROM:-0500
TZOFFSETTO:-0400
TZNAME:EDT
DTSTART:20260308T070000
END:DAYLIGHT
BEGIN:STANDARD
TZOFFSETFROM:-0400
TZOFFSETTO:-0500
TZNAME:EST
DTSTART:20261101T060000
END:STANDARD
BEGIN:DAYLIGHT
TZOFFSETFROM:-0500
TZOFFSETTO:-0400
TZNAME:EDT
DTSTART:20270314T070000
END:DAYLIGHT
BEGIN:STANDARD
TZOFFSETFROM:-0400
TZOFFSETTO:-0500
TZNAME:EST
DTSTART:20271107T060000
END:STANDARD
END:VTIMEZONE
BEGIN:VEVENT
DTSTART;TZID=America/New_York:20260418T190000
DTEND;TZID=America/New_York:20260418T220000
DTSTAMP:20260425T095033
CREATED:20251103T232010Z
LAST-MODIFIED:20260319T184622Z
UID:2147-1776538800-1776549600@therealmichaelcolyar.com
SUMMARY:Lansdowne\, PA
DESCRIPTION:Click Here to Purchase Tickets.
URL:https://therealmichaelcolyar.com/event/lansdowne-pa/
LOCATION:The Lansdowne Theater\, 31 N Lansdowne Ave\, Lansdowne\, PA\, 19050\, United States
ATTACH;FMTTYPE=image/png:https://therealmichaelcolyar.com/wp-content/uploads/2025/02/Events-Image.png
END:VEVENT
BEGIN:VEVENT
DTSTART;TZID=America/New_York:20260410T190000
DTEND;TZID=America/New_York:20260412T183000
DTSTAMP:20260425T095033
CREATED:20250827T171348Z
LAST-MODIFIED:20251128T140056Z
UID:2106-1775847600-1776018600@therealmichaelcolyar.com
SUMMARY:Cleveland\, OH
DESCRIPTION:Click Here To Purchase Tickets.
URL:https://therealmichaelcolyar.com/event/__trashed/
LOCATION:Funny Bone – Cleveland\, 1148 Main Avenue\, Cleveland\, OH\, 44113\, United States
ATTACH;FMTTYPE=image/png:https://therealmichaelcolyar.com/wp-content/uploads/2025/02/Events-Image.png
END:VEVENT
BEGIN:VEVENT
DTSTART;TZID=America/New_York:20260313T190000
DTEND;TZID=America/New_York:20260315T170000
DTSTAMP:20260425T095033
CREATED:20250827T165952Z
LAST-MODIFIED:20250827T170104Z
UID:2101-1773428400-1773594000@therealmichaelcolyar.com
SUMMARY:Raleigh\, NC
DESCRIPTION:Click Here to Purchase Tickets.
URL:https://therealmichaelcolyar.com/event/raleigh-nc-2/
LOCATION:Goodnights Comedy Club – Raleigh\, 401 Woodburn Rd\, Raleigh\, NC\, 27605\, United States
ATTACH;FMTTYPE=image/png:https://therealmichaelcolyar.com/wp-content/uploads/2025/02/Events-Image.png
END:VEVENT
BEGIN:VEVENT
DTSTART;TZID=America/New_York:20260227T190000
DTEND;TZID=America/New_York:20260301T170000
DTSTAMP:20260425T095033
CREATED:20250827T165232Z
LAST-MODIFIED:20250827T165522Z
UID:2096-1772218800-1772384400@therealmichaelcolyar.com
SUMMARY:Philadelphia\, PA
DESCRIPTION:Click Here to Purchase Tickets.
URL:https://therealmichaelcolyar.com/event/philadelphia-pa/
LOCATION:Helium Comedy Club – Philly\, 2031 Sansom Street\, Philadelphia\, PA\, 19103\, United States
ATTACH;FMTTYPE=image/png:https://therealmichaelcolyar.com/wp-content/uploads/2025/02/Events-Image.png
END:VEVENT
BEGIN:VEVENT
DTSTART;TZID=America/New_York:20260220T080000
DTEND;TZID=America/New_York:20260222T170000
DTSTAMP:20260425T095033
CREATED:20260105T223022Z
LAST-MODIFIED:20260105T223022Z
UID:2171-1771574400-1771779600@therealmichaelcolyar.com
SUMMARY:Baltimore\, MD
DESCRIPTION:Click Here to Purchase Tickets.
URL:https://therealmichaelcolyar.com/event/baltimore-md-2/
LOCATION:Baltimore Comedy Factory\, 5625 O'Donnell St\, Baltimore\, MD\, 21224\, United States
ATTACH;FMTTYPE=image/png:https://therealmichaelcolyar.com/wp-content/uploads/2025/02/Events-Image.png
END:VEVENT
BEGIN:VEVENT
DTSTART;TZID=America/New_York:20260214T190000
DTEND;TZID=America/New_York:20260214T210000
DTSTAMP:20260425T095033
CREATED:20260105T214936Z
LAST-MODIFIED:20260128T211516Z
UID:2164-1771095600-1771102800@therealmichaelcolyar.com
SUMMARY:Chicago
DESCRIPTION:Click Here to Purchase Tickets.
URL:https://therealmichaelcolyar.com/event/chicago/
LOCATION:The Auditorium\, 50 East Ida B. Wells Drive\, Chicago\, IL\, 60605\, United States
ATTACH;FMTTYPE=image/png:https://therealmichaelcolyar.com/wp-content/uploads/2025/02/Events-Image.png
END:VEVENT
BEGIN:VEVENT
DTSTART;TZID=America/New_York:20260123T190000
DTEND;TZID=America/New_York:20260124T213000
DTSTAMP:20260425T095033
CREATED:20260108T193602Z
LAST-MODIFIED:20260116T025610Z
UID:2177-1769194800-1769290200@therealmichaelcolyar.com
SUMMARY:Pontiac\, MI
DESCRIPTION:Click Here to Purchase Tickets.
URL:https://therealmichaelcolyar.com/event/saginaw-mi/
LOCATION:The Crofoot\, 1 South Saginaw\, Pontiac\, MI\, 48342\, United States
ATTACH;FMTTYPE=image/png:https://therealmichaelcolyar.com/wp-content/uploads/2025/02/Events-Image.png
END:VEVENT
BEGIN:VEVENT
DTSTART;TZID=America/New_York:20260116T190000
DTEND;TZID=America/New_York:20260118T170000
DTSTAMP:20260425T095033
CREATED:20250827T164602Z
LAST-MODIFIED:20250827T164602Z
UID:2091-1768590000-1768755600@therealmichaelcolyar.com
SUMMARY:Indianapolis\, IN
DESCRIPTION:Click Here to Purchase Tickets.
URL:https://therealmichaelcolyar.com/event/indianapolis-in/
LOCATION:Helium Comedy Club – Indy\, 10 W. Georgia St.\, Indianapolis\, IN\, 46225\, United States
ATTACH;FMTTYPE=image/png:https://therealmichaelcolyar.com/wp-content/uploads/2025/02/Events-Image.png
END:VEVENT
BEGIN:VEVENT
DTSTART;TZID=America/New_York:20251129T190000
DTEND;TZID=America/New_York:20251130T180000
DTSTAMP:20260425T095033
CREATED:20251022T190738Z
LAST-MODIFIED:20251022T190838Z
UID:2141-1764442800-1764525600@therealmichaelcolyar.com
SUMMARY:Charlotte\, NC
DESCRIPTION:Click Here to Purchase Tickets. 
URL:https://therealmichaelcolyar.com/event/charlotte-nc/
LOCATION:Laff House Comedy Club – Charlotte\, 1610 Alleghany St\, Charlotte\, NC\, 28208
ATTACH;FMTTYPE=image/png:https://therealmichaelcolyar.com/wp-content/uploads/2025/02/Events-Image.png
END:VEVENT
BEGIN:VEVENT
DTSTART;TZID=America/New_York:20251128T190000
DTEND;TZID=America/New_York:20251128T190000
DTSTAMP:20260425T095033
CREATED:20251022T182942Z
LAST-MODIFIED:20251022T184255Z
UID:2135-1764356400-1764356400@therealmichaelcolyar.com
SUMMARY:Raleigh\, NC
DESCRIPTION:Click Here to Purchase Tickets. 
URL:https://therealmichaelcolyar.com/event/raleigh-nc-3/
LOCATION:Laff House Comedy Club – Raleigh\, 3511 Maitland St\, Raleigh\, NC\, United States
ATTACH;FMTTYPE=image/png:https://therealmichaelcolyar.com/wp-content/uploads/2025/02/Events-Image.png
END:VEVENT
BEGIN:VEVENT
DTSTART;TZID=America/New_York:20251114T190000
DTEND;TZID=America/New_York:20251116T190000
DTSTAMP:20260425T095033
CREATED:20250910T103634Z
LAST-MODIFIED:20250910T103634Z
UID:2113-1763146800-1763319600@therealmichaelcolyar.com
SUMMARY:Atlanta\, GA
DESCRIPTION:Click Here to Purchase Tickets. 
URL:https://therealmichaelcolyar.com/event/atlanta-ga-2/
LOCATION:Atlanta Comedy Theater – Norcross\, 4650 Jimmy Carter Blvd\, Suite 114B\, Norcross\, GA\, 30093\, United States
ATTACH;FMTTYPE=image/png:https://therealmichaelcolyar.com/wp-content/uploads/2025/02/Events-Image.png
END:VEVENT
BEGIN:VEVENT
DTSTART;TZID=America/New_York:20251017T200000
DTEND;TZID=America/New_York:20251018T200000
DTSTAMP:20260425T095033
CREATED:20250802T194002Z
LAST-MODIFIED:20250802T194002Z
UID:2077-1760731200-1760817600@therealmichaelcolyar.com
SUMMARY:Detroit\, MI
DESCRIPTION:October 17th\, 2025\nCick Here to Purchase Tickets. \nOctober 18th\, 2025\nClick Here to Purchase Tickets.
URL:https://therealmichaelcolyar.com/event/detroit-mi/
LOCATION:Music Hall Performing Arts Theatre\, 350 Madison Street\, Detroit\, MI\, 48226\, United States
ATTACH;FMTTYPE=image/png:https://therealmichaelcolyar.com/wp-content/uploads/2025/02/Events-Image.png
END:VEVENT
BEGIN:VEVENT
DTSTART;TZID=America/New_York:20250918T190000
DTEND;TZID=America/New_York:20250921T190000
DTSTAMP:20260425T095033
CREATED:20250212T235752Z
LAST-MODIFIED:20250212T235752Z
UID:1990-1758222000-1758481200@therealmichaelcolyar.com
SUMMARY:Arlington\, TX
DESCRIPTION:Click Here to Purchase Tickets.
URL:https://therealmichaelcolyar.com/event/arlington-tx/
LOCATION:Improv – Arlington\, TX\, 309 Curtis Mathes Way #147\, Arlington\, TX\, 76018\, United States
ATTACH;FMTTYPE=image/png:https://therealmichaelcolyar.com/wp-content/uploads/2025/02/Events-Image.png
END:VEVENT
BEGIN:VEVENT
DTSTART;TZID=America/New_York:20250829T190000
DTEND;TZID=America/New_York:20250831T190000
DTSTAMP:20260425T095033
CREATED:20250205T170105Z
LAST-MODIFIED:20250522T022922Z
UID:1976-1756494000-1756666800@therealmichaelcolyar.com
SUMMARY:Buffalo\, NY
DESCRIPTION:Click Here to Purchase Tickets.
URL:https://therealmichaelcolyar.com/event/buffalo-ny/
LOCATION:Helium & Elements Restaurant – Buffalo\, 30 Mississippi Street\, Buffalo\, NY\, 14203\, United States
ATTACH;FMTTYPE=image/png:https://therealmichaelcolyar.com/wp-content/uploads/2025/02/Events-Image.png
END:VEVENT
BEGIN:VEVENT
DTSTART;TZID=America/New_York:20250822T190000
DTEND;TZID=America/New_York:20250824T170000
DTSTAMP:20260425T095033
CREATED:20250724T214849Z
LAST-MODIFIED:20250724T214849Z
UID:2062-1755889200-1756054800@therealmichaelcolyar.com
SUMMARY:Lithonia\, GA
DESCRIPTION:Click Here to Purchase Tickets. 
URL:https://therealmichaelcolyar.com/event/lithonia-ga/
LOCATION:Occasions On Main\, 6957 Main Street\, Lithonia\, GA\, 30058\, United States
ATTACH;FMTTYPE=image/png:https://therealmichaelcolyar.com/wp-content/uploads/2025/02/Events-Image.png
END:VEVENT
BEGIN:VEVENT
DTSTART;TZID=America/New_York:20250817T190000
DTEND;TZID=America/New_York:20250817T220000
DTSTAMP:20260425T095033
CREATED:20250802T145926Z
LAST-MODIFIED:20250802T145926Z
UID:2067-1755457200-1755468000@therealmichaelcolyar.com
SUMMARY:Inglewood\, CA
DESCRIPTION:
URL:https://therealmichaelcolyar.com/event/inglewood-ca/
LOCATION:The Miracle Theater\, 226 South Market St.\, Inglewood\, CA\, 90301\, United States
ATTACH;FMTTYPE=image/png:https://therealmichaelcolyar.com/wp-content/uploads/2025/02/Events-Image.png
END:VEVENT
BEGIN:VEVENT
DTSTART;TZID=America/New_York:20250725T193000
DTEND;TZID=America/New_York:20250727T190000
DTSTAMP:20260425T095033
CREATED:20250312T171126Z
LAST-MODIFIED:20250704T150833Z
UID:2004-1753471800-1753642800@therealmichaelcolyar.com
SUMMARY:Washington\, DC
DESCRIPTION:Click Here To Purchase Tickets.
URL:https://therealmichaelcolyar.com/event/washington-dc/
LOCATION:DC Improv Comedy Club\, 1140 Connecticut Ave\, NW\, Washington\, DC\, DC\, 20036\, United States
ATTACH;FMTTYPE=image/png:https://therealmichaelcolyar.com/wp-content/uploads/2025/02/Events-Image.png
END:VEVENT
BEGIN:VEVENT
DTSTART;TZID=America/New_York:20250713T190000
DTEND;TZID=America/New_York:20250713T220000
DTSTAMP:20260425T095033
CREATED:20250704T144744Z
LAST-MODIFIED:20250704T144938Z
UID:2054-1752433200-1752444000@therealmichaelcolyar.com
SUMMARY:New Brunswick\, NJ
DESCRIPTION:Click Here to Purchase Tickets.
URL:https://therealmichaelcolyar.com/event/new-brunswick-nj/
LOCATION:Stress Factory New Brunswick\, 90 Church St.\, New Brunswick\, NJ\, 08901\, United States
END:VEVENT
BEGIN:VEVENT
DTSTART;TZID=America/New_York:20250711T190000
DTEND;TZID=America/New_York:20250712T190000
DTSTAMP:20260425T095033
CREATED:20250704T050947Z
LAST-MODIFIED:20250704T150531Z
UID:2046-1752260400-1752346800@therealmichaelcolyar.com
SUMMARY:King of Prussia\, PA
DESCRIPTION:Click Here to Purchase Tickets.
URL:https://therealmichaelcolyar.com/event/king-of-prussia-pa/
LOCATION:Stress Factory Comedy Club – Valley Forge Casino & Resorts\, 1160 First Avenue\, King of Prussia\, PA\, 19406\, United States
ATTACH;FMTTYPE=image/png:https://therealmichaelcolyar.com/wp-content/uploads/2025/02/Events-Image.png
END:VEVENT
BEGIN:VEVENT
DTSTART;TZID=America/New_York:20250620T190000
DTEND;TZID=America/New_York:20250620T230000
DTSTAMP:20260425T095033
CREATED:20250520T165158Z
LAST-MODIFIED:20250520T165347Z
UID:2032-1750446000-1750460400@therealmichaelcolyar.com
SUMMARY:Flint\, MI
DESCRIPTION:
URL:https://therealmichaelcolyar.com/event/flint-mi/
LOCATION:Wyndam Hotels and Resorts\, 5353 Gateway Centre Blvd\, Flint\, MI\, 48507\, United States
ATTACH;FMTTYPE=image/png:https://therealmichaelcolyar.com/wp-content/uploads/2025/02/Events-Image.png
END:VEVENT
BEGIN:VEVENT
DTSTART;TZID=America/New_York:20250502T190000
DTEND;TZID=America/New_York:20250502T190000
DTSTAMP:20260425T095033
CREATED:20250314T132814Z
LAST-MODIFIED:20250314T132949Z
UID:2007-1746212400-1746212400@therealmichaelcolyar.com
SUMMARY:Henderson\, KY
DESCRIPTION:
URL:https://therealmichaelcolyar.com/event/henderson-ky/
LOCATION:Ellis Park Race Track\, 3300 Highway 41 N\, Henderson\, Kentucky\, 42420\, United States
ATTACH;FMTTYPE=image/png:https://therealmichaelcolyar.com/wp-content/uploads/2025/02/Events-Image.png
END:VEVENT
BEGIN:VEVENT
DTSTART;TZID=America/New_York:20250425T190000
DTEND;TZID=America/New_York:20250427T190000
DTSTAMP:20260425T095033
CREATED:20250205T164337Z
LAST-MODIFIED:20250205T190858Z
UID:1973-1745607600-1745780400@therealmichaelcolyar.com
SUMMARY:Atlanta\, GA
DESCRIPTION:Click Here to Purchase Tickets. 
URL:https://therealmichaelcolyar.com/event/atlanta-ga/
LOCATION:Atlanta Original Uptown Corner\, 1155 Virginia Ave\, Hapeville\, GA\, 30354\, United States
ATTACH;FMTTYPE=image/png:https://therealmichaelcolyar.com/wp-content/uploads/2025/02/Events-Image.png
END:VEVENT
BEGIN:VEVENT
DTSTART;TZID=America/New_York:20250418T193000
DTEND;TZID=America/New_York:20250420T190000
DTSTAMP:20260425T095033
CREATED:20250205T162416Z
LAST-MODIFIED:20250314T134037Z
UID:1969-1745004600-1745175600@therealmichaelcolyar.com
SUMMARY:Baltimore\, MD
DESCRIPTION:Click Here to Purchase Tickets. 
URL:https://therealmichaelcolyar.com/event/baltimore-md/
LOCATION:Baltimore Comedy Factory\, 5625 O'Donnell St\, Baltimore\, MD\, 21224\, United States
ATTACH;FMTTYPE=image/png:https://therealmichaelcolyar.com/wp-content/uploads/2025/02/Events-Image.png
END:VEVENT
BEGIN:VEVENT
DTSTART;TZID=America/New_York:20250411T190000
DTEND;TZID=America/New_York:20250413T183000
DTSTAMP:20260425T095033
CREATED:20250205T161038Z
LAST-MODIFIED:20250205T191253Z
UID:1966-1744398000-1744569000@therealmichaelcolyar.com
SUMMARY:Hoover\, AL
DESCRIPTION:Click Here to Purchase Tickets.
URL:https://therealmichaelcolyar.com/event/hoover-al/
LOCATION:Stardome Comedy Club\, 1818 Data Dr\, Hoover\, AL\, 35244\, United States
ATTACH;FMTTYPE=image/png:https://therealmichaelcolyar.com/wp-content/uploads/2025/02/Events-Image.png
END:VEVENT
BEGIN:VEVENT
DTSTART;TZID=America/New_York:20250404T190000
DTEND;TZID=America/New_York:20250406T160000
DTSTAMP:20260425T095033
CREATED:20250205T155654Z
LAST-MODIFIED:20250321T171150Z
UID:1963-1743793200-1743955200@therealmichaelcolyar.com
SUMMARY:St. Louis\, MO
DESCRIPTION:Click Here to Purchase Tickets.
URL:https://therealmichaelcolyar.com/event/st-louis-mo/
LOCATION:Helium & Elements Restaurant – St. Louis\, 1151 St Louis Galleria Street\, St Louis\, MO\, 63117\, United States
ATTACH;FMTTYPE=image/png:https://therealmichaelcolyar.com/wp-content/uploads/2025/02/Events-Image.png
END:VEVENT
BEGIN:VEVENT
DTSTART;TZID=America/New_York:20250329T190000
DTEND;TZID=America/New_York:20250329T190000
DTSTAMP:20260425T095033
CREATED:20250205T154548Z
LAST-MODIFIED:20250205T191609Z
UID:1959-1743274800-1743274800@therealmichaelcolyar.com
SUMMARY:Gary\, IN
DESCRIPTION:Click Here to Purchase Tickets. 
URL:https://therealmichaelcolyar.com/event/gary-in/
LOCATION:Hard Rock Casion – Northern Indiana\, 5400 West 29th Ave\, Gary\, IN\, 46406\, United States
ATTACH;FMTTYPE=image/png:https://therealmichaelcolyar.com/wp-content/uploads/2025/02/Events-Image.png
END:VEVENT
BEGIN:VEVENT
DTSTART;TZID=America/New_York:20250314T180000
DTEND;TZID=America/New_York:20250316T190000
DTSTAMP:20260425T095033
CREATED:20250205T153321Z
LAST-MODIFIED:20250314T133424Z
UID:1956-1741975200-1742151600@therealmichaelcolyar.com
SUMMARY:Raleigh\, NC
DESCRIPTION:Click Here to Purchase Tickets.
URL:https://therealmichaelcolyar.com/event/raleigh-nc/
LOCATION:Goodnights Comedy Club – Raleigh\, 401 Woodburn Rd\, Raleigh\, NC\, 27605\, United States
ATTACH;FMTTYPE=image/png:https://therealmichaelcolyar.com/wp-content/uploads/2025/02/Events-Image.png
END:VEVENT
BEGIN:VEVENT
DTSTART;TZID=America/New_York:20250307T190000
DTEND;TZID=America/New_York:20250309T183000
DTSTAMP:20260425T095033
CREATED:20250205T150616Z
LAST-MODIFIED:20250205T192027Z
UID:1952-1741374000-1741545000@therealmichaelcolyar.com
SUMMARY:Cleveland\, Ohio
DESCRIPTION:Click Here to Purchase Tickets.
URL:https://therealmichaelcolyar.com/event/cleveland-ohio/
LOCATION:Funny Bone – Cleveland\, 1148 Main Avenue\, Cleveland\, OH\, 44113\, United States
ATTACH;FMTTYPE=image/png:https://therealmichaelcolyar.com/wp-content/uploads/2025/02/Events-Image.png
END:VEVENT
BEGIN:VEVENT
DTSTART;TZID=America/New_York:20250221T000000
DTEND;TZID=America/New_York:20250223T000000
DTSTAMP:20260425T095033
CREATED:20250204T225153Z
LAST-MODIFIED:20250205T192449Z
UID:1928-1740096000-1740268800@therealmichaelcolyar.com
SUMMARY:Philadelphia\, PA
DESCRIPTION:Click Here to Purchase Tickets.
URL:https://therealmichaelcolyar.com/event/philadelphia-pa-click-here/
LOCATION:Helium Comedy Club – Philly\, 2031 Sansom Street\, Philadelphia\, PA\, 19103\, United States
ATTACH;FMTTYPE=image/png:https://therealmichaelcolyar.com/wp-content/uploads/2025/02/Events-Image.png
END:VEVENT
BEGIN:VEVENT
DTSTART;TZID=America/New_York:20250216T190000
DTEND;TZID=America/New_York:20250216T190000
DTSTAMP:20260425T095033
CREATED:20250205T145513Z
LAST-MODIFIED:20250205T193144Z
UID:1949-1739732400-1739732400@therealmichaelcolyar.com
SUMMARY:Paducah\, KY
DESCRIPTION:
URL:https://therealmichaelcolyar.com/event/paducah-ky/
LOCATION:Knights of Columbus\, 6725 US 45\, Paducah\, KY\, 42003\, United States
ATTACH;FMTTYPE=image/png:https://therealmichaelcolyar.com/wp-content/uploads/2025/02/Events-Image.png
END:VEVENT
END:VCALENDAR