BEGIN:VCALENDAR
VERSION:2.0
PRODID:-//The Real Michael Colyar - ECPv6.15.20//NONSGML v1.0//EN
CALSCALE:GREGORIAN
METHOD:PUBLISH
X-WR-CALNAME:The Real Michael Colyar
X-ORIGINAL-URL:https://therealmichaelcolyar.com
X-WR-CALDESC:Events for The Real Michael Colyar
REFRESH-INTERVAL;VALUE=DURATION:PT1H
X-Robots-Tag:noindex
X-PUBLISHED-TTL:PT1H
BEGIN:VTIMEZONE
TZID:America/New_York
BEGIN:DAYLIGHT
TZOFFSETFROM:-0500
TZOFFSETTO:-0400
TZNAME:EDT
DTSTART:20250309T070000
END:DAYLIGHT
BEGIN:STANDARD
TZOFFSETFROM:-0400
TZOFFSETTO:-0500
TZNAME:EST
DTSTART:20251102T060000
END:STANDARD
BEGIN:DAYLIGHT
TZOFFSETFROM:-0500
TZOFFSETTO:-0400
TZNAME:EDT
DTSTART:20260308T070000
END:DAYLIGHT
BEGIN:STANDARD
TZOFFSETFROM:-0400
TZOFFSETTO:-0500
TZNAME:EST
DTSTART:20261101T060000
END:STANDARD
BEGIN:DAYLIGHT
TZOFFSETFROM:-0500
TZOFFSETTO:-0400
TZNAME:EDT
DTSTART:20270314T070000
END:DAYLIGHT
BEGIN:STANDARD
TZOFFSETFROM:-0400
TZOFFSETTO:-0500
TZNAME:EST
DTSTART:20271107T060000
END:STANDARD
END:VTIMEZONE
BEGIN:VEVENT
DTSTART;TZID=America/New_York:20260116T190000
DTEND;TZID=America/New_York:20260118T170000
DTSTAMP:20260425T201002
CREATED:20250827T164602Z
LAST-MODIFIED:20250827T164602Z
UID:2091-1768590000-1768755600@therealmichaelcolyar.com
SUMMARY:Indianapolis\, IN
DESCRIPTION:Click Here to Purchase Tickets.
URL:https://therealmichaelcolyar.com/event/indianapolis-in/
LOCATION:Helium Comedy Club – Indy\, 10 W. Georgia St.\, Indianapolis\, IN\, 46225\, United States
ATTACH;FMTTYPE=image/png:https://therealmichaelcolyar.com/wp-content/uploads/2025/02/Events-Image.png
END:VEVENT
BEGIN:VEVENT
DTSTART;TZID=America/New_York:20260123T190000
DTEND;TZID=America/New_York:20260124T213000
DTSTAMP:20260425T201002
CREATED:20260108T193602Z
LAST-MODIFIED:20260116T025610Z
UID:2177-1769194800-1769290200@therealmichaelcolyar.com
SUMMARY:Pontiac\, MI
DESCRIPTION:Click Here to Purchase Tickets.
URL:https://therealmichaelcolyar.com/event/saginaw-mi/
LOCATION:The Crofoot\, 1 South Saginaw\, Pontiac\, MI\, 48342\, United States
ATTACH;FMTTYPE=image/png:https://therealmichaelcolyar.com/wp-content/uploads/2025/02/Events-Image.png
END:VEVENT
BEGIN:VEVENT
DTSTART;TZID=America/New_York:20260214T190000
DTEND;TZID=America/New_York:20260214T210000
DTSTAMP:20260425T201002
CREATED:20260105T214936Z
LAST-MODIFIED:20260128T211516Z
UID:2164-1771095600-1771102800@therealmichaelcolyar.com
SUMMARY:Chicago
DESCRIPTION:Click Here to Purchase Tickets.
URL:https://therealmichaelcolyar.com/event/chicago/
LOCATION:The Auditorium\, 50 East Ida B. Wells Drive\, Chicago\, IL\, 60605\, United States
ATTACH;FMTTYPE=image/png:https://therealmichaelcolyar.com/wp-content/uploads/2025/02/Events-Image.png
END:VEVENT
BEGIN:VEVENT
DTSTART;TZID=America/New_York:20260220T080000
DTEND;TZID=America/New_York:20260222T170000
DTSTAMP:20260425T201002
CREATED:20260105T223022Z
LAST-MODIFIED:20260105T223022Z
UID:2171-1771574400-1771779600@therealmichaelcolyar.com
SUMMARY:Baltimore\, MD
DESCRIPTION:Click Here to Purchase Tickets.
URL:https://therealmichaelcolyar.com/event/baltimore-md-2/
LOCATION:Baltimore Comedy Factory\, 5625 O'Donnell St\, Baltimore\, MD\, 21224\, United States
ATTACH;FMTTYPE=image/png:https://therealmichaelcolyar.com/wp-content/uploads/2025/02/Events-Image.png
END:VEVENT
BEGIN:VEVENT
DTSTART;TZID=America/New_York:20260227T190000
DTEND;TZID=America/New_York:20260301T170000
DTSTAMP:20260425T201002
CREATED:20250827T165232Z
LAST-MODIFIED:20250827T165522Z
UID:2096-1772218800-1772384400@therealmichaelcolyar.com
SUMMARY:Philadelphia\, PA
DESCRIPTION:Click Here to Purchase Tickets.
URL:https://therealmichaelcolyar.com/event/philadelphia-pa/
LOCATION:Helium Comedy Club – Philly\, 2031 Sansom Street\, Philadelphia\, PA\, 19103\, United States
ATTACH;FMTTYPE=image/png:https://therealmichaelcolyar.com/wp-content/uploads/2025/02/Events-Image.png
END:VEVENT
BEGIN:VEVENT
DTSTART;TZID=America/New_York:20260313T190000
DTEND;TZID=America/New_York:20260315T170000
DTSTAMP:20260425T201002
CREATED:20250827T165952Z
LAST-MODIFIED:20250827T170104Z
UID:2101-1773428400-1773594000@therealmichaelcolyar.com
SUMMARY:Raleigh\, NC
DESCRIPTION:Click Here to Purchase Tickets.
URL:https://therealmichaelcolyar.com/event/raleigh-nc-2/
LOCATION:Goodnights Comedy Club – Raleigh\, 401 Woodburn Rd\, Raleigh\, NC\, 27605\, United States
ATTACH;FMTTYPE=image/png:https://therealmichaelcolyar.com/wp-content/uploads/2025/02/Events-Image.png
END:VEVENT
BEGIN:VEVENT
DTSTART;TZID=America/New_York:20260410T190000
DTEND;TZID=America/New_York:20260412T183000
DTSTAMP:20260425T201002
CREATED:20250827T171348Z
LAST-MODIFIED:20251128T140056Z
UID:2106-1775847600-1776018600@therealmichaelcolyar.com
SUMMARY:Cleveland\, OH
DESCRIPTION:Click Here To Purchase Tickets.
URL:https://therealmichaelcolyar.com/event/__trashed/
LOCATION:Funny Bone – Cleveland\, 1148 Main Avenue\, Cleveland\, OH\, 44113\, United States
ATTACH;FMTTYPE=image/png:https://therealmichaelcolyar.com/wp-content/uploads/2025/02/Events-Image.png
END:VEVENT
BEGIN:VEVENT
DTSTART;TZID=America/New_York:20260418T190000
DTEND;TZID=America/New_York:20260418T220000
DTSTAMP:20260425T201002
CREATED:20251103T232010Z
LAST-MODIFIED:20260319T184622Z
UID:2147-1776538800-1776549600@therealmichaelcolyar.com
SUMMARY:Lansdowne\, PA
DESCRIPTION:Click Here to Purchase Tickets.
URL:https://therealmichaelcolyar.com/event/lansdowne-pa/
LOCATION:The Lansdowne Theater\, 31 N Lansdowne Ave\, Lansdowne\, PA\, 19050\, United States
ATTACH;FMTTYPE=image/png:https://therealmichaelcolyar.com/wp-content/uploads/2025/02/Events-Image.png
END:VEVENT
BEGIN:VEVENT
DTSTART;TZID=America/New_York:20260501T190000
DTEND;TZID=America/New_York:20260503T170000
DTSTAMP:20260425T201002
CREATED:20250827T163939Z
LAST-MODIFIED:20251128T140001Z
UID:2087-1777662000-1777827600@therealmichaelcolyar.com
SUMMARY:Houston\, TX
DESCRIPTION:
URL:https://therealmichaelcolyar.com/event/houston-tx/
LOCATION:Improv Houston\, 7620 Katy Freeway Space 455\, Houston\, TX\, 77024\, United States
ATTACH;FMTTYPE=image/png:https://therealmichaelcolyar.com/wp-content/uploads/2025/02/Events-Image.png
END:VEVENT
BEGIN:VEVENT
DTSTART;TZID=America/New_York:20260508T183000
DTEND;TZID=America/New_York:20260510T180000
DTSTAMP:20260425T201002
CREATED:20260318T132017Z
LAST-MODIFIED:20260318T132017Z
UID:2198-1778265000-1778436000@therealmichaelcolyar.com
SUMMARY:Atlanta\, GA
DESCRIPTION:Click Here to Purchase Tickets.
URL:https://therealmichaelcolyar.com/event/atlanta-ga-3/
LOCATION:Atlanta Comedy Theater – Norcross\, 4650 Jimmy Carter Blvd\, Suite 114B\, Norcross\, GA\, 30093\, United States
ATTACH;FMTTYPE=image/png:https://therealmichaelcolyar.com/wp-content/uploads/2025/02/Events-Image.png
END:VEVENT
BEGIN:VEVENT
DTSTART;TZID=America/New_York:20260529T190000
DTEND;TZID=America/New_York:20260531T180000
DTSTAMP:20260425T201002
CREATED:20260418T205218Z
LAST-MODIFIED:20260418T205302Z
UID:2210-1780081200-1780250400@therealmichaelcolyar.com
SUMMARY:St. Louis\, MO
DESCRIPTION:Click Here to Purchase Tickets. 
URL:https://therealmichaelcolyar.com/event/st-louis-mo-2/
LOCATION:Helium & Elements Restaurant – St. Louis\, 1151 St Louis Galleria Street\, St Louis\, MO\, 63117\, United States
ATTACH;FMTTYPE=image/png:https://therealmichaelcolyar.com/wp-content/uploads/2025/02/Events-Image.png
END:VEVENT
BEGIN:VEVENT
DTSTART;TZID=America/New_York:20260619T190000
DTEND;TZID=America/New_York:20260621T180000
DTSTAMP:20260425T201002
CREATED:20260405T213258Z
LAST-MODIFIED:20260405T213258Z
UID:2203-1781895600-1782064800@therealmichaelcolyar.com
SUMMARY:Tampa\, FL
DESCRIPTION:Click Here to Purchase Tickets.
URL:https://therealmichaelcolyar.com/event/tampa-fl/
LOCATION:Funny Bone Comedy Club Restaurant – Tampa\, 1600 E 8th Ave C-112\, Tampa\, FL\, 33605\, United States
ATTACH;FMTTYPE=image/png:https://therealmichaelcolyar.com/wp-content/uploads/2025/02/Events-Image.png
END:VEVENT
BEGIN:VEVENT
DTSTART;TZID=America/New_York:20260728T223000
DTEND;TZID=America/New_York:20260731T223000
DTSTAMP:20260425T201002
CREATED:20260405T214408Z
LAST-MODIFIED:20260405T214552Z
UID:2205-1785277800-1785537000@therealmichaelcolyar.com
SUMMARY:Winston Salem\, NC
DESCRIPTION:Click Here to Purchase Tickets.  \n 
URL:https://therealmichaelcolyar.com/event/winston-salem-nc/
LOCATION:International Black Theater Festival
ATTACH;FMTTYPE=image/png:https://therealmichaelcolyar.com/wp-content/uploads/2025/02/Events-Image.png
END:VEVENT
END:VCALENDAR