BEGIN:VCALENDAR
VERSION:2.0
PRODID:-//The Real Michael Colyar - ECPv6.15.20//NONSGML v1.0//EN
CALSCALE:GREGORIAN
METHOD:PUBLISH
X-WR-CALNAME:The Real Michael Colyar
X-ORIGINAL-URL:https://therealmichaelcolyar.com
X-WR-CALDESC:Events for The Real Michael Colyar
REFRESH-INTERVAL;VALUE=DURATION:PT1H
X-Robots-Tag:noindex
X-PUBLISHED-TTL:PT1H
BEGIN:VTIMEZONE
TZID:America/New_York
BEGIN:DAYLIGHT
TZOFFSETFROM:-0500
TZOFFSETTO:-0400
TZNAME:EDT
DTSTART:20240310T070000
END:DAYLIGHT
BEGIN:STANDARD
TZOFFSETFROM:-0400
TZOFFSETTO:-0500
TZNAME:EST
DTSTART:20241103T060000
END:STANDARD
BEGIN:DAYLIGHT
TZOFFSETFROM:-0500
TZOFFSETTO:-0400
TZNAME:EDT
DTSTART:20250309T070000
END:DAYLIGHT
BEGIN:STANDARD
TZOFFSETFROM:-0400
TZOFFSETTO:-0500
TZNAME:EST
DTSTART:20251102T060000
END:STANDARD
BEGIN:DAYLIGHT
TZOFFSETFROM:-0500
TZOFFSETTO:-0400
TZNAME:EDT
DTSTART:20260308T070000
END:DAYLIGHT
BEGIN:STANDARD
TZOFFSETFROM:-0400
TZOFFSETTO:-0500
TZNAME:EST
DTSTART:20261101T060000
END:STANDARD
END:VTIMEZONE
BEGIN:VEVENT
DTSTART;TZID=America/New_York:20250221T000000
DTEND;TZID=America/New_York:20250223T000000
DTSTAMP:20260425T223511
CREATED:20250204T225153Z
LAST-MODIFIED:20250205T192449Z
UID:1928-1740096000-1740268800@therealmichaelcolyar.com
SUMMARY:Philadelphia\, PA
DESCRIPTION:Click Here to Purchase Tickets.
URL:https://therealmichaelcolyar.com/event/philadelphia-pa-click-here/
LOCATION:Helium Comedy Club – Philly\, 2031 Sansom Street\, Philadelphia\, PA\, 19103\, United States
ATTACH;FMTTYPE=image/png:https://therealmichaelcolyar.com/wp-content/uploads/2025/02/Events-Image.png
END:VEVENT
BEGIN:VEVENT
DTSTART;TZID=America/New_York:20250216T190000
DTEND;TZID=America/New_York:20250216T190000
DTSTAMP:20260425T223511
CREATED:20250205T145513Z
LAST-MODIFIED:20250205T193144Z
UID:1949-1739732400-1739732400@therealmichaelcolyar.com
SUMMARY:Paducah\, KY
DESCRIPTION:
URL:https://therealmichaelcolyar.com/event/paducah-ky/
LOCATION:Knights of Columbus\, 6725 US 45\, Paducah\, KY\, 42003\, United States
ATTACH;FMTTYPE=image/png:https://therealmichaelcolyar.com/wp-content/uploads/2025/02/Events-Image.png
END:VEVENT
BEGIN:VEVENT
DTSTART;TZID=America/New_York:20250215T190000
DTEND;TZID=America/New_York:20250215T190000
DTSTAMP:20260425T223511
CREATED:20250205T144105Z
LAST-MODIFIED:20250205T193558Z
UID:1943-1739646000-1739646000@therealmichaelcolyar.com
SUMMARY:Clarksville\, TN
DESCRIPTION:Click Here to Purchase Tickets. 
URL:https://therealmichaelcolyar.com/event/clarksville-tn/
LOCATION:Customs House Museum & Cultural Center\, 200 South 2nd Street\, Clarksville\, TN\, 37040\, United States
ATTACH;FMTTYPE=image/png:https://therealmichaelcolyar.com/wp-content/uploads/2025/02/Events-Image.png
END:VEVENT
END:VCALENDAR