BEGIN:VCALENDAR
VERSION:2.0
PRODID:-//The Real Michael Colyar - ECPv6.15.20//NONSGML v1.0//EN
CALSCALE:GREGORIAN
METHOD:PUBLISH
X-WR-CALNAME:The Real Michael Colyar
X-ORIGINAL-URL:https://therealmichaelcolyar.com
X-WR-CALDESC:Events for The Real Michael Colyar
REFRESH-INTERVAL;VALUE=DURATION:PT1H
X-Robots-Tag:noindex
X-PUBLISHED-TTL:PT1H
BEGIN:VTIMEZONE
TZID:America/New_York
BEGIN:DAYLIGHT
TZOFFSETFROM:-0500
TZOFFSETTO:-0400
TZNAME:EDT
DTSTART:20240310T070000
END:DAYLIGHT
BEGIN:STANDARD
TZOFFSETFROM:-0400
TZOFFSETTO:-0500
TZNAME:EST
DTSTART:20241103T060000
END:STANDARD
BEGIN:DAYLIGHT
TZOFFSETFROM:-0500
TZOFFSETTO:-0400
TZNAME:EDT
DTSTART:20250309T070000
END:DAYLIGHT
BEGIN:STANDARD
TZOFFSETFROM:-0400
TZOFFSETTO:-0500
TZNAME:EST
DTSTART:20251102T060000
END:STANDARD
BEGIN:DAYLIGHT
TZOFFSETFROM:-0500
TZOFFSETTO:-0400
TZNAME:EDT
DTSTART:20260308T070000
END:DAYLIGHT
BEGIN:STANDARD
TZOFFSETFROM:-0400
TZOFFSETTO:-0500
TZNAME:EST
DTSTART:20261101T060000
END:STANDARD
END:VTIMEZONE
BEGIN:VEVENT
DTSTART;TZID=America/New_York:20250711T190000
DTEND;TZID=America/New_York:20250712T190000
DTSTAMP:20260426T001856
CREATED:20250704T050947Z
LAST-MODIFIED:20250704T150531Z
UID:2046-1752260400-1752346800@therealmichaelcolyar.com
SUMMARY:King of Prussia\, PA
DESCRIPTION:Click Here to Purchase Tickets.
URL:https://therealmichaelcolyar.com/event/king-of-prussia-pa/
LOCATION:Stress Factory Comedy Club – Valley Forge Casino & Resorts\, 1160 First Avenue\, King of Prussia\, PA\, 19406\, United States
ATTACH;FMTTYPE=image/png:https://therealmichaelcolyar.com/wp-content/uploads/2025/02/Events-Image.png
END:VEVENT
BEGIN:VEVENT
DTSTART;TZID=America/New_York:20250713T190000
DTEND;TZID=America/New_York:20250713T220000
DTSTAMP:20260426T001856
CREATED:20250704T144744Z
LAST-MODIFIED:20250704T144938Z
UID:2054-1752433200-1752444000@therealmichaelcolyar.com
SUMMARY:New Brunswick\, NJ
DESCRIPTION:Click Here to Purchase Tickets.
URL:https://therealmichaelcolyar.com/event/new-brunswick-nj/
LOCATION:Stress Factory New Brunswick\, 90 Church St.\, New Brunswick\, NJ\, 08901\, United States
END:VEVENT
BEGIN:VEVENT
DTSTART;TZID=America/New_York:20250725T193000
DTEND;TZID=America/New_York:20250727T190000
DTSTAMP:20260426T001856
CREATED:20250312T171126Z
LAST-MODIFIED:20250704T150833Z
UID:2004-1753471800-1753642800@therealmichaelcolyar.com
SUMMARY:Washington\, DC
DESCRIPTION:Click Here To Purchase Tickets.
URL:https://therealmichaelcolyar.com/event/washington-dc/
LOCATION:DC Improv Comedy Club\, 1140 Connecticut Ave\, NW\, Washington\, DC\, DC\, 20036\, United States
ATTACH;FMTTYPE=image/png:https://therealmichaelcolyar.com/wp-content/uploads/2025/02/Events-Image.png
END:VEVENT
END:VCALENDAR