BEGIN:VCALENDAR
VERSION:2.0
PRODID:-//The Real Michael Colyar - ECPv6.15.20//NONSGML v1.0//EN
CALSCALE:GREGORIAN
METHOD:PUBLISH
X-WR-CALNAME:The Real Michael Colyar
X-ORIGINAL-URL:https://therealmichaelcolyar.com
X-WR-CALDESC:Events for The Real Michael Colyar
REFRESH-INTERVAL;VALUE=DURATION:PT1H
X-Robots-Tag:noindex
X-PUBLISHED-TTL:PT1H
BEGIN:VTIMEZONE
TZID:America/New_York
BEGIN:DAYLIGHT
TZOFFSETFROM:-0500
TZOFFSETTO:-0400
TZNAME:EDT
DTSTART:20250309T070000
END:DAYLIGHT
BEGIN:STANDARD
TZOFFSETFROM:-0400
TZOFFSETTO:-0500
TZNAME:EST
DTSTART:20251102T060000
END:STANDARD
BEGIN:DAYLIGHT
TZOFFSETFROM:-0500
TZOFFSETTO:-0400
TZNAME:EDT
DTSTART:20260308T070000
END:DAYLIGHT
BEGIN:STANDARD
TZOFFSETFROM:-0400
TZOFFSETTO:-0500
TZNAME:EST
DTSTART:20261101T060000
END:STANDARD
BEGIN:DAYLIGHT
TZOFFSETFROM:-0500
TZOFFSETTO:-0400
TZNAME:EDT
DTSTART:20270314T070000
END:DAYLIGHT
BEGIN:STANDARD
TZOFFSETFROM:-0400
TZOFFSETTO:-0500
TZNAME:EST
DTSTART:20271107T060000
END:STANDARD
END:VTIMEZONE
BEGIN:VEVENT
DTSTART;TZID=America/New_York:20260214T190000
DTEND;TZID=America/New_York:20260214T210000
DTSTAMP:20260425T133440
CREATED:20260105T214936Z
LAST-MODIFIED:20260128T211516Z
UID:2164-1771095600-1771102800@therealmichaelcolyar.com
SUMMARY:Chicago
DESCRIPTION:Click Here to Purchase Tickets.
URL:https://therealmichaelcolyar.com/event/chicago/
LOCATION:The Auditorium\, 50 East Ida B. Wells Drive\, Chicago\, IL\, 60605\, United States
ATTACH;FMTTYPE=image/png:https://therealmichaelcolyar.com/wp-content/uploads/2025/02/Events-Image.png
END:VEVENT
BEGIN:VEVENT
DTSTART;TZID=America/New_York:20260220T080000
DTEND;TZID=America/New_York:20260222T170000
DTSTAMP:20260425T133440
CREATED:20260105T223022Z
LAST-MODIFIED:20260105T223022Z
UID:2171-1771574400-1771779600@therealmichaelcolyar.com
SUMMARY:Baltimore\, MD
DESCRIPTION:Click Here to Purchase Tickets.
URL:https://therealmichaelcolyar.com/event/baltimore-md-2/
LOCATION:Baltimore Comedy Factory\, 5625 O'Donnell St\, Baltimore\, MD\, 21224\, United States
ATTACH;FMTTYPE=image/png:https://therealmichaelcolyar.com/wp-content/uploads/2025/02/Events-Image.png
END:VEVENT
BEGIN:VEVENT
DTSTART;TZID=America/New_York:20260227T190000
DTEND;TZID=America/New_York:20260301T170000
DTSTAMP:20260425T133440
CREATED:20250827T165232Z
LAST-MODIFIED:20250827T165522Z
UID:2096-1772218800-1772384400@therealmichaelcolyar.com
SUMMARY:Philadelphia\, PA
DESCRIPTION:Click Here to Purchase Tickets.
URL:https://therealmichaelcolyar.com/event/philadelphia-pa/
LOCATION:Helium Comedy Club – Philly\, 2031 Sansom Street\, Philadelphia\, PA\, 19103\, United States
ATTACH;FMTTYPE=image/png:https://therealmichaelcolyar.com/wp-content/uploads/2025/02/Events-Image.png
END:VEVENT
END:VCALENDAR