BEGIN:VCALENDAR
VERSION:2.0
PRODID:-//The Real Michael Colyar - ECPv6.15.20//NONSGML v1.0//EN
CALSCALE:GREGORIAN
METHOD:PUBLISH
X-ORIGINAL-URL:https://therealmichaelcolyar.com
X-WR-CALDESC:Events for The Real Michael Colyar
REFRESH-INTERVAL;VALUE=DURATION:PT1H
X-Robots-Tag:noindex
X-PUBLISHED-TTL:PT1H
BEGIN:VTIMEZONE
TZID:America/New_York
BEGIN:DAYLIGHT
TZOFFSETFROM:-0500
TZOFFSETTO:-0400
TZNAME:EDT
DTSTART:20250309T070000
END:DAYLIGHT
BEGIN:STANDARD
TZOFFSETFROM:-0400
TZOFFSETTO:-0500
TZNAME:EST
DTSTART:20251102T060000
END:STANDARD
BEGIN:DAYLIGHT
TZOFFSETFROM:-0500
TZOFFSETTO:-0400
TZNAME:EDT
DTSTART:20260308T070000
END:DAYLIGHT
BEGIN:STANDARD
TZOFFSETFROM:-0400
TZOFFSETTO:-0500
TZNAME:EST
DTSTART:20261101T060000
END:STANDARD
BEGIN:DAYLIGHT
TZOFFSETFROM:-0500
TZOFFSETTO:-0400
TZNAME:EDT
DTSTART:20270314T070000
END:DAYLIGHT
BEGIN:STANDARD
TZOFFSETFROM:-0400
TZOFFSETTO:-0500
TZNAME:EST
DTSTART:20271107T060000
END:STANDARD
END:VTIMEZONE
BEGIN:VEVENT
DTSTART;TZID=America/New_York:20260227T190000
DTEND;TZID=America/New_York:20260301T170000
DTSTAMP:20260425T115729
CREATED:20250827T165232Z
LAST-MODIFIED:20250827T165522Z
UID:2096-1772218800-1772384400@therealmichaelcolyar.com
SUMMARY:Philadelphia\, PA
DESCRIPTION:Click Here to Purchase Tickets.
URL:https://therealmichaelcolyar.com/event/philadelphia-pa/
LOCATION:Helium Comedy Club – Philly\, 2031 Sansom Street\, Philadelphia\, PA\, 19103\, United States
ATTACH;FMTTYPE=image/png:https://therealmichaelcolyar.com/wp-content/uploads/2025/02/Events-Image.png
END:VEVENT
BEGIN:VEVENT
DTSTART;TZID=America/New_York:20260313T190000
DTEND;TZID=America/New_York:20260315T170000
DTSTAMP:20260425T115729
CREATED:20250827T165952Z
LAST-MODIFIED:20250827T170104Z
UID:2101-1773428400-1773594000@therealmichaelcolyar.com
SUMMARY:Raleigh\, NC
DESCRIPTION:Click Here to Purchase Tickets.
URL:https://therealmichaelcolyar.com/event/raleigh-nc-2/
LOCATION:Goodnights Comedy Club – Raleigh\, 401 Woodburn Rd\, Raleigh\, NC\, 27605\, United States
ATTACH;FMTTYPE=image/png:https://therealmichaelcolyar.com/wp-content/uploads/2025/02/Events-Image.png
END:VEVENT
END:VCALENDAR